BEGIN:VCALENDAR
VERSION:2.0
PRODID:-//eventon.com NONSGML v1.0//EN
CALSCALE:GREGORIAN
METHOD:PUBLISH
BEGIN:VEVENT
UID:69e9de75c8db1
DTSTAMP:20260423T085517Z
DTSTART:20210804T150000Z
DTEND:20210804T160000Z
LOCATION:The Greenline 2532 Sidney Brooks
SUMMARY:The Greenline Extension Ribbon Cutting
DESCRIPTION:Join us as we celebrate the completion of the $2 million extens
 ion project\,  located at the southern end of The Greenline. The extension 
 is approximately 1\, 200-feet long\,  connecting to existing walking trails
  along the San Antonio River at Mission Reach stretching from the historic 
 missions through downtown\,  The Pearl\,  and[..]\nhttps://livebrooks.com/c
 ommunity/events/the-greenline-extension-ribbon-cutting/
URL:https://livebrooks.com/community/events/the-greenline-extension-ribbon-cutting/
END:VEVENT
END:VCALENDAR