BEGIN:VCALENDAR
VERSION:2.0
PRODID:-//eventon.com NONSGML v1.0//EN
CALSCALE:GREGORIAN
METHOD:PUBLISH
BEGIN:VEVENT
UID:69e9dd9e36dcc
DTSTAMP:20260423T085142Z
DTSTART:20230129T003000Z
DTEND:20230129T030000Z
LOCATION:
SUMMARY:BillyRay Sheppard (at the Embassy Suites at Brooks)
DESCRIPTION:BillyRay Sheppard is a jazz saxophonist who has lived in San An
 tonio Texas for many years. He is a proud graduate of Fox Tech High School 
 and St. Mary’s University. Soon after academic life\,  he pursued many di
 fferent avenues in the field of music. He has been performing since the[..]
 \nhttps://livebrooks.com/community/events/billyray-sheppard-at-the-embassy-
 suites-at-brooks-4/
URL:https://livebrooks.com/community/events/billyray-sheppard-at-the-embassy-suites-at-brooks-4/
END:VEVENT
END:VCALENDAR