BEGIN:VCALENDAR
VERSION:2.0
PRODID:-//eventon.com NONSGML v1.0//EN
CALSCALE:GREGORIAN
METHOD:PUBLISH
BEGIN:VEVENT
UID:69e5faeb0fec0
DTSTAMP:20260420T100739Z
DTSTART:20231027T230000Z
DTEND:20231028T040000Z
LOCATION:Hangar 9 8081 Inner Circle Rd.
SUMMARY:5th Annual Día de los Muertos Gala
DESCRIPTION:Join us for the 5th Annual Día de los Muertos Gala\,  benefiti
 ng the Brooks area and the people who call it home. We will celebrate our c
 ommunity with music and cultura during a night to remember. Festive attire 
 is encouraged! 3 pm &#8211; 7 pm: Face painting (first come\,  first[..]\nh
 ttps://livebrooks.com/community/events/5th-annual-dia-de-los-muertos-gala/
URL:https://livebrooks.com/community/events/5th-annual-dia-de-los-muertos-gala/
END:VEVENT
END:VCALENDAR