BEGIN:VCALENDAR
VERSION:2.0
PRODID:-//eventon.com NONSGML v1.0//EN
CALSCALE:GREGORIAN
METHOD:PUBLISH
BEGIN:VEVENT
UID:69e88bac313ff
DTSTAMP:20260422T084948Z
DTSTART:20240420T220000Z
DTEND:20240421T040000Z
LOCATION:The Greenline 2532 Sidney Brooks
SUMMARY:Chanclas y Cervezas
DESCRIPTION:VIVA FIESTA! Join us for an evening full of food\,  laughter\, 
  games\,  music and your favorite cervezas at The Greenline. Chanclas y Cer
 vezas is back! Put your chancla throwing skills to the test with games and 
 activities that honor the ever-versatile chancla (some activities have limi
 ted availability). And don&#8217;t worry\, [..]\nhttps://livebrooks.com/com
 munity/events/chanclas-y-cervezas/
URL:https://livebrooks.com/community/events/chanclas-y-cervezas/
END:VEVENT
END:VCALENDAR